BEGIN:VCALENDAR
VERSION:2.0
PRODID:-//eventon.com NONSGML v1.0//EN
CALSCALE:GREGORIAN
METHOD:PUBLISH
BEGIN:VEVENT
UID:69eb96c3c6442
DTSTAMP:20260424T161355Z
DTSTART:20250227T180000Z
DTEND:20250227T220000Z
LOCATION:VV- Bavel Bavelse Hei 7\,  4854 PN Bavel
SUMMARY:Carnaval bij VV-Bavel
DESCRIPTION:Vanavond vieren we carnaval bij VV-Bavel veur alle Baviaonen en
  Baviaoninnekes. Kom gezellig een biertje drinken onder de carnavaleske kla
 nken van Zanger Luuk en DJ Jan en Peter.\nhttps://debaviaonen.nl/events/car
 naval-bij-vv-bavel/
URL:https://debaviaonen.nl/events/carnaval-bij-vv-bavel/
END:VEVENT
END:VCALENDAR